BEGIN:VCALENDAR
PRODID:http://www.kufer.de/kuferweb / DE
VERSION:2.0
METHOD:PUBLISH
CALSCALE:GREGORIAN
X-WR-TIMEZONE:Europe/Berlin
BEGIN:VTIMEZONE
TZID:Europe/Berlin
X-LIC-LOCATION:Europe/Berlin
BEGIN:DAYLIGHT
TZOFFSETFROM:+0100
TZOFFSETTO:+0200
TZNAME:CEST
DTSTART;TZID=Europe/Berlin:19700329T020000
RRULE:FREQ=YEARLY;INTERVAL=1;BYDAY=-1SU;BYMONTH=3
END:DAYLIGHT
BEGIN:STANDARD
TZOFFSETFROM:+0200
TZOFFSETTO:+0100
TZNAME:CET
DTSTART;TZID=Europe/Berlin:19701025T030000
RRULE:FREQ=YEARLY;INTERVAL=1;BYDAY=-1SU;BYMONTH=10
END:STANDARD
END:VTIMEZONE
BEGIN:VEVENT
DTSTAMP:20260419T152138
DTSTART;TZID=Europe/Berlin:20260601T190000
DTEND;TZID=Europe/Berlin:20260601T210000
UID:26-1056-20260601T190000@EUG HAMMELTERNSCHULE UND GESUNDHEITSZENTRUM DER ST. BARBARA-KLINIK
SUMMARY:Ganzheitliche Geburtsvorbereitung - Geburtsmonate August + September 2026 (26-1056) 
LOCATION:St. Barbara-Klinik, Haus 5, Gruppenraum 1, , 
END:VEVENT
BEGIN:VEVENT
DTSTAMP:20260419T152138
DTSTART;TZID=Europe/Berlin:20260608T190000
DTEND;TZID=Europe/Berlin:20260608T210000
UID:26-1056-20260608T190000@EUG HAMMELTERNSCHULE UND GESUNDHEITSZENTRUM DER ST. BARBARA-KLINIK
SUMMARY:Ganzheitliche Geburtsvorbereitung - Geburtsmonate August + September 2026 (26-1056) 
LOCATION:St. Barbara-Klinik, Haus 5, Gruppenraum 1, , 
END:VEVENT
BEGIN:VEVENT
DTSTAMP:20260419T152138
DTSTART;TZID=Europe/Berlin:20260615T190000
DTEND;TZID=Europe/Berlin:20260615T210000
UID:26-1056-20260615T190000@EUG HAMMELTERNSCHULE UND GESUNDHEITSZENTRUM DER ST. BARBARA-KLINIK
SUMMARY:Ganzheitliche Geburtsvorbereitung - Geburtsmonate August + September 2026 (26-1056) 
LOCATION:St. Barbara-Klinik, Haus 5, Gruppenraum 1, , 
END:VEVENT
BEGIN:VEVENT
DTSTAMP:20260419T152138
DTSTART;TZID=Europe/Berlin:20260622T190000
DTEND;TZID=Europe/Berlin:20260622T210000
UID:26-1056-20260622T190000@EUG HAMMELTERNSCHULE UND GESUNDHEITSZENTRUM DER ST. BARBARA-KLINIK
SUMMARY:Ganzheitliche Geburtsvorbereitung - Geburtsmonate August + September 2026 (26-1056) 
LOCATION:St. Barbara-Klinik, Haus 5, Gruppenraum 1, , 
END:VEVENT
BEGIN:VEVENT
DTSTAMP:20260419T152138
DTSTART;TZID=Europe/Berlin:20260629T190000
DTEND;TZID=Europe/Berlin:20260629T210000
UID:26-1056-20260629T190000@EUG HAMMELTERNSCHULE UND GESUNDHEITSZENTRUM DER ST. BARBARA-KLINIK
SUMMARY:Ganzheitliche Geburtsvorbereitung - Geburtsmonate August + September 2026 (26-1056) 
LOCATION:St. Barbara-Klinik, Haus 5, Gruppenraum 1, , 
END:VEVENT
BEGIN:VEVENT
DTSTAMP:20260419T152138
DTSTART;TZID=Europe/Berlin:20260706T190000
DTEND;TZID=Europe/Berlin:20260706T210000
UID:26-1056-20260706T190000@EUG HAMMELTERNSCHULE UND GESUNDHEITSZENTRUM DER ST. BARBARA-KLINIK
SUMMARY:Ganzheitliche Geburtsvorbereitung - Geburtsmonate August + September 2026 (26-1056) 
LOCATION:St. Barbara-Klinik, Haus 5, Gruppenraum 1, , 
END:VEVENT
BEGIN:VEVENT
DTSTAMP:20260419T152138
DTSTART;TZID=Europe/Berlin:20260713T190000
DTEND;TZID=Europe/Berlin:20260713T210000
UID:26-1056-20260713T190000@EUG HAMMELTERNSCHULE UND GESUNDHEITSZENTRUM DER ST. BARBARA-KLINIK
SUMMARY:Ganzheitliche Geburtsvorbereitung - Geburtsmonate August + September 2026 (26-1056) 
LOCATION:St. Barbara-Klinik, Haus 5, Gruppenraum 1, , 
END:VEVENT
END:VCALENDAR