BEGIN:VCALENDAR
PRODID:http://www.kufer.de/kuferweb / DE
VERSION:2.0
METHOD:PUBLISH
CALSCALE:GREGORIAN
X-WR-TIMEZONE:Europe/Berlin
BEGIN:VTIMEZONE
TZID:Europe/Berlin
X-LIC-LOCATION:Europe/Berlin
BEGIN:DAYLIGHT
TZOFFSETFROM:+0100
TZOFFSETTO:+0200
TZNAME:CEST
DTSTART;TZID=Europe/Berlin:19700329T020000
RRULE:FREQ=YEARLY;INTERVAL=1;BYDAY=-1SU;BYMONTH=3
END:DAYLIGHT
BEGIN:STANDARD
TZOFFSETFROM:+0200
TZOFFSETTO:+0100
TZNAME:CET
DTSTART;TZID=Europe/Berlin:19701025T030000
RRULE:FREQ=YEARLY;INTERVAL=1;BYDAY=-1SU;BYMONTH=10
END:STANDARD
END:VTIMEZONE
BEGIN:VEVENT
DTSTAMP:20260419T211302
DTSTART;TZID=Europe/Berlin:20260905T180000
DTEND;TZID=Europe/Berlin:20260905T184500
UID:26-2014-20260905T180000@EUG HAMMELTERNSCHULE UND GESUNDHEITSZENTRUM DER ST. BARBARA-KLINIK
SUMMARY:Seepferdchen, ich komme! (26-2014) 
LOCATION:Familienoase Heessen, , 
END:VEVENT
BEGIN:VEVENT
DTSTAMP:20260419T211302
DTSTART;TZID=Europe/Berlin:20260912T180000
DTEND;TZID=Europe/Berlin:20260912T184500
UID:26-2014-20260912T180000@EUG HAMMELTERNSCHULE UND GESUNDHEITSZENTRUM DER ST. BARBARA-KLINIK
SUMMARY:Seepferdchen, ich komme! (26-2014) 
LOCATION:Familienoase Heessen, , 
END:VEVENT
BEGIN:VEVENT
DTSTAMP:20260419T211302
DTSTART;TZID=Europe/Berlin:20260919T180000
DTEND;TZID=Europe/Berlin:20260919T184500
UID:26-2014-20260919T180000@EUG HAMMELTERNSCHULE UND GESUNDHEITSZENTRUM DER ST. BARBARA-KLINIK
SUMMARY:Seepferdchen, ich komme! (26-2014) 
LOCATION:Familienoase Heessen, , 
END:VEVENT
BEGIN:VEVENT
DTSTAMP:20260419T211302
DTSTART;TZID=Europe/Berlin:20260926T180000
DTEND;TZID=Europe/Berlin:20260926T184500
UID:26-2014-20260926T180000@EUG HAMMELTERNSCHULE UND GESUNDHEITSZENTRUM DER ST. BARBARA-KLINIK
SUMMARY:Seepferdchen, ich komme! (26-2014) 
LOCATION:Familienoase Heessen, , 
END:VEVENT
BEGIN:VEVENT
DTSTAMP:20260419T211302
DTSTART;TZID=Europe/Berlin:20261010T180000
DTEND;TZID=Europe/Berlin:20261010T184500
UID:26-2014-20261010T180000@EUG HAMMELTERNSCHULE UND GESUNDHEITSZENTRUM DER ST. BARBARA-KLINIK
SUMMARY:Seepferdchen, ich komme! (26-2014) 
LOCATION:Familienoase Heessen, , 
END:VEVENT
BEGIN:VEVENT
DTSTAMP:20260419T211302
DTSTART;TZID=Europe/Berlin:20261017T180000
DTEND;TZID=Europe/Berlin:20261017T184500
UID:26-2014-20261017T180000@EUG HAMMELTERNSCHULE UND GESUNDHEITSZENTRUM DER ST. BARBARA-KLINIK
SUMMARY:Seepferdchen, ich komme! (26-2014) 
LOCATION:Familienoase Heessen, , 
END:VEVENT
BEGIN:VEVENT
DTSTAMP:20260419T211302
DTSTART;TZID=Europe/Berlin:20261107T180000
DTEND;TZID=Europe/Berlin:20261107T184500
UID:26-2014-20261107T180000@EUG HAMMELTERNSCHULE UND GESUNDHEITSZENTRUM DER ST. BARBARA-KLINIK
SUMMARY:Seepferdchen, ich komme! (26-2014) 
LOCATION:Familienoase Heessen, , 
END:VEVENT
BEGIN:VEVENT
DTSTAMP:20260419T211302
DTSTART;TZID=Europe/Berlin:20261114T180000
DTEND;TZID=Europe/Berlin:20261114T184500
UID:26-2014-20261114T180000@EUG HAMMELTERNSCHULE UND GESUNDHEITSZENTRUM DER ST. BARBARA-KLINIK
SUMMARY:Seepferdchen, ich komme! (26-2014) 
LOCATION:Familienoase Heessen, , 
END:VEVENT
BEGIN:VEVENT
DTSTAMP:20260419T211302
DTSTART;TZID=Europe/Berlin:20261121T180000
DTEND;TZID=Europe/Berlin:20261121T184500
UID:26-2014-20261121T180000@EUG HAMMELTERNSCHULE UND GESUNDHEITSZENTRUM DER ST. BARBARA-KLINIK
SUMMARY:Seepferdchen, ich komme! (26-2014) 
LOCATION:Familienoase Heessen, , 
END:VEVENT
BEGIN:VEVENT
DTSTAMP:20260419T211302
DTSTART;TZID=Europe/Berlin:20261128T180000
DTEND;TZID=Europe/Berlin:20261128T184500
UID:26-2014-20261128T180000@EUG HAMMELTERNSCHULE UND GESUNDHEITSZENTRUM DER ST. BARBARA-KLINIK
SUMMARY:Seepferdchen, ich komme! (26-2014) 
LOCATION:Familienoase Heessen, , 
END:VEVENT
BEGIN:VEVENT
DTSTAMP:20260419T211302
DTSTART;TZID=Europe/Berlin:20261205T180000
DTEND;TZID=Europe/Berlin:20261205T184500
UID:26-2014-20261205T180000@EUG HAMMELTERNSCHULE UND GESUNDHEITSZENTRUM DER ST. BARBARA-KLINIK
SUMMARY:Seepferdchen, ich komme! (26-2014) 
LOCATION:Familienoase Heessen, , 
END:VEVENT
BEGIN:VEVENT
DTSTAMP:20260419T211302
DTSTART;TZID=Europe/Berlin:20261212T180000
DTEND;TZID=Europe/Berlin:20261212T184500
UID:26-2014-20261212T180000@EUG HAMMELTERNSCHULE UND GESUNDHEITSZENTRUM DER ST. BARBARA-KLINIK
SUMMARY:Seepferdchen, ich komme! (26-2014) 
LOCATION:Familienoase Heessen, , 
END:VEVENT
END:VCALENDAR