BEGIN:VCALENDAR
PRODID:http://www.kufer.de/kuferweb / DE
VERSION:2.0
METHOD:PUBLISH
CALSCALE:GREGORIAN
X-WR-TIMEZONE:Europe/Berlin
BEGIN:VTIMEZONE
TZID:Europe/Berlin
X-LIC-LOCATION:Europe/Berlin
BEGIN:DAYLIGHT
TZOFFSETFROM:+0100
TZOFFSETTO:+0200
TZNAME:CEST
DTSTART;TZID=Europe/Berlin:19700329T020000
RRULE:FREQ=YEARLY;INTERVAL=1;BYDAY=-1SU;BYMONTH=3
END:DAYLIGHT
BEGIN:STANDARD
TZOFFSETFROM:+0200
TZOFFSETTO:+0100
TZNAME:CET
DTSTART;TZID=Europe/Berlin:19701025T030000
RRULE:FREQ=YEARLY;INTERVAL=1;BYDAY=-1SU;BYMONTH=10
END:STANDARD
END:VTIMEZONE
BEGIN:VEVENT
DTSTAMP:20260420T032557
DTSTART;TZID=Europe/Berlin:20260418T171500
DTEND;TZID=Europe/Berlin:20260418T180000
UID:26-2028-20260418T171500@EUG HAMMELTERNSCHULE UND GESUNDHEITSZENTRUM DER ST. BARBARA-KLINIK
SUMMARY:Kleinkinderschwimmen - Alter bei Kursstart: 24 - 36 Monate (26-2028) 
LOCATION:Familienoase Heessen, , 
END:VEVENT
BEGIN:VEVENT
DTSTAMP:20260420T032557
DTSTART;TZID=Europe/Berlin:20260425T171500
DTEND;TZID=Europe/Berlin:20260425T180000
UID:26-2028-20260425T171500@EUG HAMMELTERNSCHULE UND GESUNDHEITSZENTRUM DER ST. BARBARA-KLINIK
SUMMARY:Kleinkinderschwimmen - Alter bei Kursstart: 24 - 36 Monate (26-2028) 
LOCATION:Familienoase Heessen, , 
END:VEVENT
BEGIN:VEVENT
DTSTAMP:20260420T032557
DTSTART;TZID=Europe/Berlin:20260502T171500
DTEND;TZID=Europe/Berlin:20260502T180000
UID:26-2028-20260502T171500@EUG HAMMELTERNSCHULE UND GESUNDHEITSZENTRUM DER ST. BARBARA-KLINIK
SUMMARY:Kleinkinderschwimmen - Alter bei Kursstart: 24 - 36 Monate (26-2028) 
LOCATION:Familienoase Heessen, , 
END:VEVENT
BEGIN:VEVENT
DTSTAMP:20260420T032557
DTSTART;TZID=Europe/Berlin:20260509T171500
DTEND;TZID=Europe/Berlin:20260509T180000
UID:26-2028-20260509T171500@EUG HAMMELTERNSCHULE UND GESUNDHEITSZENTRUM DER ST. BARBARA-KLINIK
SUMMARY:Kleinkinderschwimmen - Alter bei Kursstart: 24 - 36 Monate (26-2028) 
LOCATION:Familienoase Heessen, , 
END:VEVENT
BEGIN:VEVENT
DTSTAMP:20260420T032557
DTSTART;TZID=Europe/Berlin:20260516T171500
DTEND;TZID=Europe/Berlin:20260516T180000
UID:26-2028-20260516T171500@EUG HAMMELTERNSCHULE UND GESUNDHEITSZENTRUM DER ST. BARBARA-KLINIK
SUMMARY:Kleinkinderschwimmen - Alter bei Kursstart: 24 - 36 Monate (26-2028) 
LOCATION:Familienoase Heessen, , 
END:VEVENT
BEGIN:VEVENT
DTSTAMP:20260420T032557
DTSTART;TZID=Europe/Berlin:20260530T171500
DTEND;TZID=Europe/Berlin:20260530T180000
UID:26-2028-20260530T171500@EUG HAMMELTERNSCHULE UND GESUNDHEITSZENTRUM DER ST. BARBARA-KLINIK
SUMMARY:Kleinkinderschwimmen - Alter bei Kursstart: 24 - 36 Monate (26-2028) 
LOCATION:Familienoase Heessen, , 
END:VEVENT
BEGIN:VEVENT
DTSTAMP:20260420T032557
DTSTART;TZID=Europe/Berlin:20260606T171500
DTEND;TZID=Europe/Berlin:20260606T180000
UID:26-2028-20260606T171500@EUG HAMMELTERNSCHULE UND GESUNDHEITSZENTRUM DER ST. BARBARA-KLINIK
SUMMARY:Kleinkinderschwimmen - Alter bei Kursstart: 24 - 36 Monate (26-2028) 
LOCATION:Familienoase Heessen, , 
END:VEVENT
BEGIN:VEVENT
DTSTAMP:20260420T032557
DTSTART;TZID=Europe/Berlin:20260613T171500
DTEND;TZID=Europe/Berlin:20260613T180000
UID:26-2028-20260613T171500@EUG HAMMELTERNSCHULE UND GESUNDHEITSZENTRUM DER ST. BARBARA-KLINIK
SUMMARY:Kleinkinderschwimmen - Alter bei Kursstart: 24 - 36 Monate (26-2028) 
LOCATION:Familienoase Heessen, , 
END:VEVENT
BEGIN:VEVENT
DTSTAMP:20260420T032557
DTSTART;TZID=Europe/Berlin:20260620T171500
DTEND;TZID=Europe/Berlin:20260620T180000
UID:26-2028-20260620T171500@EUG HAMMELTERNSCHULE UND GESUNDHEITSZENTRUM DER ST. BARBARA-KLINIK
SUMMARY:Kleinkinderschwimmen - Alter bei Kursstart: 24 - 36 Monate (26-2028) 
LOCATION:Familienoase Heessen, , 
END:VEVENT
BEGIN:VEVENT
DTSTAMP:20260420T032557
DTSTART;TZID=Europe/Berlin:20260627T171500
DTEND;TZID=Europe/Berlin:20260627T180000
UID:26-2028-20260627T171500@EUG HAMMELTERNSCHULE UND GESUNDHEITSZENTRUM DER ST. BARBARA-KLINIK
SUMMARY:Kleinkinderschwimmen - Alter bei Kursstart: 24 - 36 Monate (26-2028) 
LOCATION:Familienoase Heessen, , 
END:VEVENT
BEGIN:VEVENT
DTSTAMP:20260420T032557
DTSTART;TZID=Europe/Berlin:20260704T171500
DTEND;TZID=Europe/Berlin:20260704T180000
UID:26-2028-20260704T171500@EUG HAMMELTERNSCHULE UND GESUNDHEITSZENTRUM DER ST. BARBARA-KLINIK
SUMMARY:Kleinkinderschwimmen - Alter bei Kursstart: 24 - 36 Monate (26-2028) 
LOCATION:Familienoase Heessen, , 
END:VEVENT
BEGIN:VEVENT
DTSTAMP:20260420T032557
DTSTART;TZID=Europe/Berlin:20260711T171500
DTEND;TZID=Europe/Berlin:20260711T180000
UID:26-2028-20260711T171500@EUG HAMMELTERNSCHULE UND GESUNDHEITSZENTRUM DER ST. BARBARA-KLINIK
SUMMARY:Kleinkinderschwimmen - Alter bei Kursstart: 24 - 36 Monate (26-2028) 
LOCATION:Familienoase Heessen, , 
END:VEVENT
END:VCALENDAR