BEGIN:VCALENDAR
PRODID:http://www.kufer.de/kuferweb / DE
VERSION:2.0
METHOD:PUBLISH
CALSCALE:GREGORIAN
X-WR-TIMEZONE:Europe/Berlin
BEGIN:VTIMEZONE
TZID:Europe/Berlin
X-LIC-LOCATION:Europe/Berlin
BEGIN:DAYLIGHT
TZOFFSETFROM:+0100
TZOFFSETTO:+0200
TZNAME:CEST
DTSTART;TZID=Europe/Berlin:19700329T020000
RRULE:FREQ=YEARLY;INTERVAL=1;BYDAY=-1SU;BYMONTH=3
END:DAYLIGHT
BEGIN:STANDARD
TZOFFSETFROM:+0200
TZOFFSETTO:+0100
TZNAME:CET
DTSTART;TZID=Europe/Berlin:19701025T030000
RRULE:FREQ=YEARLY;INTERVAL=1;BYDAY=-1SU;BYMONTH=10
END:STANDARD
END:VTIMEZONE
BEGIN:VEVENT
DTSTAMP:20260419T211312
DTSTART;TZID=Europe/Berlin:20260905T171500
DTEND;TZID=Europe/Berlin:20260905T180000
UID:26-2029-20260905T171500@EUG HAMMELTERNSCHULE UND GESUNDHEITSZENTRUM DER ST. BARBARA-KLINIK
SUMMARY:Kleinkinderschwimmen - Alter bei Kursstart: 24 - 36 Monate (26-2029) 
LOCATION:Familienoase Heessen, , 
END:VEVENT
BEGIN:VEVENT
DTSTAMP:20260419T211312
DTSTART;TZID=Europe/Berlin:20260912T171500
DTEND;TZID=Europe/Berlin:20260912T180000
UID:26-2029-20260912T171500@EUG HAMMELTERNSCHULE UND GESUNDHEITSZENTRUM DER ST. BARBARA-KLINIK
SUMMARY:Kleinkinderschwimmen - Alter bei Kursstart: 24 - 36 Monate (26-2029) 
LOCATION:Familienoase Heessen, , 
END:VEVENT
BEGIN:VEVENT
DTSTAMP:20260419T211312
DTSTART;TZID=Europe/Berlin:20260919T171500
DTEND;TZID=Europe/Berlin:20260919T180000
UID:26-2029-20260919T171500@EUG HAMMELTERNSCHULE UND GESUNDHEITSZENTRUM DER ST. BARBARA-KLINIK
SUMMARY:Kleinkinderschwimmen - Alter bei Kursstart: 24 - 36 Monate (26-2029) 
LOCATION:Familienoase Heessen, , 
END:VEVENT
BEGIN:VEVENT
DTSTAMP:20260419T211312
DTSTART;TZID=Europe/Berlin:20260926T171500
DTEND;TZID=Europe/Berlin:20260926T180000
UID:26-2029-20260926T171500@EUG HAMMELTERNSCHULE UND GESUNDHEITSZENTRUM DER ST. BARBARA-KLINIK
SUMMARY:Kleinkinderschwimmen - Alter bei Kursstart: 24 - 36 Monate (26-2029) 
LOCATION:Familienoase Heessen, , 
END:VEVENT
BEGIN:VEVENT
DTSTAMP:20260419T211312
DTSTART;TZID=Europe/Berlin:20261010T171500
DTEND;TZID=Europe/Berlin:20261010T180000
UID:26-2029-20261010T171500@EUG HAMMELTERNSCHULE UND GESUNDHEITSZENTRUM DER ST. BARBARA-KLINIK
SUMMARY:Kleinkinderschwimmen - Alter bei Kursstart: 24 - 36 Monate (26-2029) 
LOCATION:Familienoase Heessen, , 
END:VEVENT
BEGIN:VEVENT
DTSTAMP:20260419T211312
DTSTART;TZID=Europe/Berlin:20261017T171500
DTEND;TZID=Europe/Berlin:20261017T180000
UID:26-2029-20261017T171500@EUG HAMMELTERNSCHULE UND GESUNDHEITSZENTRUM DER ST. BARBARA-KLINIK
SUMMARY:Kleinkinderschwimmen - Alter bei Kursstart: 24 - 36 Monate (26-2029) 
LOCATION:Familienoase Heessen, , 
END:VEVENT
BEGIN:VEVENT
DTSTAMP:20260419T211312
DTSTART;TZID=Europe/Berlin:20261107T171500
DTEND;TZID=Europe/Berlin:20261107T180000
UID:26-2029-20261107T171500@EUG HAMMELTERNSCHULE UND GESUNDHEITSZENTRUM DER ST. BARBARA-KLINIK
SUMMARY:Kleinkinderschwimmen - Alter bei Kursstart: 24 - 36 Monate (26-2029) 
LOCATION:Familienoase Heessen, , 
END:VEVENT
BEGIN:VEVENT
DTSTAMP:20260419T211312
DTSTART;TZID=Europe/Berlin:20261114T171500
DTEND;TZID=Europe/Berlin:20261114T180000
UID:26-2029-20261114T171500@EUG HAMMELTERNSCHULE UND GESUNDHEITSZENTRUM DER ST. BARBARA-KLINIK
SUMMARY:Kleinkinderschwimmen - Alter bei Kursstart: 24 - 36 Monate (26-2029) 
LOCATION:Familienoase Heessen, , 
END:VEVENT
BEGIN:VEVENT
DTSTAMP:20260419T211312
DTSTART;TZID=Europe/Berlin:20261121T171500
DTEND;TZID=Europe/Berlin:20261121T180000
UID:26-2029-20261121T171500@EUG HAMMELTERNSCHULE UND GESUNDHEITSZENTRUM DER ST. BARBARA-KLINIK
SUMMARY:Kleinkinderschwimmen - Alter bei Kursstart: 24 - 36 Monate (26-2029) 
LOCATION:Familienoase Heessen, , 
END:VEVENT
BEGIN:VEVENT
DTSTAMP:20260419T211312
DTSTART;TZID=Europe/Berlin:20261128T171500
DTEND;TZID=Europe/Berlin:20261128T180000
UID:26-2029-20261128T171500@EUG HAMMELTERNSCHULE UND GESUNDHEITSZENTRUM DER ST. BARBARA-KLINIK
SUMMARY:Kleinkinderschwimmen - Alter bei Kursstart: 24 - 36 Monate (26-2029) 
LOCATION:Familienoase Heessen, , 
END:VEVENT
BEGIN:VEVENT
DTSTAMP:20260419T211312
DTSTART;TZID=Europe/Berlin:20261205T171500
DTEND;TZID=Europe/Berlin:20261205T180000
UID:26-2029-20261205T171500@EUG HAMMELTERNSCHULE UND GESUNDHEITSZENTRUM DER ST. BARBARA-KLINIK
SUMMARY:Kleinkinderschwimmen - Alter bei Kursstart: 24 - 36 Monate (26-2029) 
LOCATION:Familienoase Heessen, , 
END:VEVENT
BEGIN:VEVENT
DTSTAMP:20260419T211312
DTSTART;TZID=Europe/Berlin:20261212T171500
DTEND;TZID=Europe/Berlin:20261212T180000
UID:26-2029-20261212T171500@EUG HAMMELTERNSCHULE UND GESUNDHEITSZENTRUM DER ST. BARBARA-KLINIK
SUMMARY:Kleinkinderschwimmen - Alter bei Kursstart: 24 - 36 Monate (26-2029) 
LOCATION:Familienoase Heessen, , 
END:VEVENT
END:VCALENDAR