BEGIN:VCALENDAR
PRODID:http://www.kufer.de/kuferweb / DE
VERSION:2.0
METHOD:PUBLISH
CALSCALE:GREGORIAN
X-WR-TIMEZONE:Europe/Berlin
BEGIN:VTIMEZONE
TZID:Europe/Berlin
X-LIC-LOCATION:Europe/Berlin
BEGIN:DAYLIGHT
TZOFFSETFROM:+0100
TZOFFSETTO:+0200
TZNAME:CEST
DTSTART;TZID=Europe/Berlin:19700329T020000
RRULE:FREQ=YEARLY;INTERVAL=1;BYDAY=-1SU;BYMONTH=3
END:DAYLIGHT
BEGIN:STANDARD
TZOFFSETFROM:+0200
TZOFFSETTO:+0100
TZNAME:CET
DTSTART;TZID=Europe/Berlin:19701025T030000
RRULE:FREQ=YEARLY;INTERVAL=1;BYDAY=-1SU;BYMONTH=10
END:STANDARD
END:VTIMEZONE
BEGIN:VEVENT
DTSTAMP:20260420T014159
DTSTART;TZID=Europe/Berlin:20260413T090000
DTEND;TZID=Europe/Berlin:20260413T103000
UID:26-2041-20260413T090000@EUG HAMMELTERNSCHULE UND GESUNDHEITSZENTRUM DER ST. BARBARA-KLINIK
SUMMARY:Babymassage (26-2041) 
LOCATION:St. Barbara-Klinik, Haus 5, Gruppenraum 1, , 
END:VEVENT
BEGIN:VEVENT
DTSTAMP:20260420T014159
DTSTART;TZID=Europe/Berlin:20260420T090000
DTEND;TZID=Europe/Berlin:20260420T103000
UID:26-2041-20260420T090000@EUG HAMMELTERNSCHULE UND GESUNDHEITSZENTRUM DER ST. BARBARA-KLINIK
SUMMARY:Babymassage (26-2041) 
LOCATION:St. Barbara-Klinik, Haus 5, Gruppenraum 1, , 
END:VEVENT
BEGIN:VEVENT
DTSTAMP:20260420T014159
DTSTART;TZID=Europe/Berlin:20260427T090000
DTEND;TZID=Europe/Berlin:20260427T103000
UID:26-2041-20260427T090000@EUG HAMMELTERNSCHULE UND GESUNDHEITSZENTRUM DER ST. BARBARA-KLINIK
SUMMARY:Babymassage (26-2041) 
LOCATION:St. Barbara-Klinik, Haus 5, Gruppenraum 1, , 
END:VEVENT
BEGIN:VEVENT
DTSTAMP:20260420T014159
DTSTART;TZID=Europe/Berlin:20260504T090000
DTEND;TZID=Europe/Berlin:20260504T103000
UID:26-2041-20260504T090000@EUG HAMMELTERNSCHULE UND GESUNDHEITSZENTRUM DER ST. BARBARA-KLINIK
SUMMARY:Babymassage (26-2041) 
LOCATION:St. Barbara-Klinik, Haus 5, Gruppenraum 1, , 
END:VEVENT
BEGIN:VEVENT
DTSTAMP:20260420T014159
DTSTART;TZID=Europe/Berlin:20260511T090000
DTEND;TZID=Europe/Berlin:20260511T103000
UID:26-2041-20260511T090000@EUG HAMMELTERNSCHULE UND GESUNDHEITSZENTRUM DER ST. BARBARA-KLINIK
SUMMARY:Babymassage (26-2041) 
LOCATION:St. Barbara-Klinik, Haus 5, Gruppenraum 1, , 
END:VEVENT
END:VCALENDAR