BEGIN:VCALENDAR
PRODID:http://www.kufer.de/kuferweb / DE
VERSION:2.0
METHOD:PUBLISH
CALSCALE:GREGORIAN
X-WR-TIMEZONE:Europe/Berlin
BEGIN:VTIMEZONE
TZID:Europe/Berlin
X-LIC-LOCATION:Europe/Berlin
BEGIN:DAYLIGHT
TZOFFSETFROM:+0100
TZOFFSETTO:+0200
TZNAME:CEST
DTSTART;TZID=Europe/Berlin:19700329T020000
RRULE:FREQ=YEARLY;INTERVAL=1;BYDAY=-1SU;BYMONTH=3
END:DAYLIGHT
BEGIN:STANDARD
TZOFFSETFROM:+0200
TZOFFSETTO:+0100
TZNAME:CET
DTSTART;TZID=Europe/Berlin:19701025T030000
RRULE:FREQ=YEARLY;INTERVAL=1;BYDAY=-1SU;BYMONTH=10
END:STANDARD
END:VTIMEZONE
BEGIN:VEVENT
DTSTAMP:20260419T193845
DTSTART;TZID=Europe/Berlin:20260421T150000
DTEND;TZID=Europe/Berlin:20260421T161500
UID:26-2047-20260421T150000@EUG HAMMELTERNSCHULE UND GESUNDHEITSZENTRUM DER ST. BARBARA-KLINIK
SUMMARY:Spiel und Bewegung für Eltern mit Kindern von 1 - 3 Jahren (26-2047) 
LOCATION:St. Barbara-Klinik, Haus 5, Gymnastikhalle, , 
END:VEVENT
BEGIN:VEVENT
DTSTAMP:20260419T193845
DTSTART;TZID=Europe/Berlin:20260428T150000
DTEND;TZID=Europe/Berlin:20260428T161500
UID:26-2047-20260428T150000@EUG HAMMELTERNSCHULE UND GESUNDHEITSZENTRUM DER ST. BARBARA-KLINIK
SUMMARY:Spiel und Bewegung für Eltern mit Kindern von 1 - 3 Jahren (26-2047) 
LOCATION:St. Barbara-Klinik, Haus 5, Gymnastikhalle, , 
END:VEVENT
BEGIN:VEVENT
DTSTAMP:20260419T193845
DTSTART;TZID=Europe/Berlin:20260505T150000
DTEND;TZID=Europe/Berlin:20260505T161500
UID:26-2047-20260505T150000@EUG HAMMELTERNSCHULE UND GESUNDHEITSZENTRUM DER ST. BARBARA-KLINIK
SUMMARY:Spiel und Bewegung für Eltern mit Kindern von 1 - 3 Jahren (26-2047) 
LOCATION:St. Barbara-Klinik, Haus 5, Gymnastikhalle, , 
END:VEVENT
BEGIN:VEVENT
DTSTAMP:20260419T193845
DTSTART;TZID=Europe/Berlin:20260512T150000
DTEND;TZID=Europe/Berlin:20260512T161500
UID:26-2047-20260512T150000@EUG HAMMELTERNSCHULE UND GESUNDHEITSZENTRUM DER ST. BARBARA-KLINIK
SUMMARY:Spiel und Bewegung für Eltern mit Kindern von 1 - 3 Jahren (26-2047) 
LOCATION:St. Barbara-Klinik, Haus 5, Gymnastikhalle, , 
END:VEVENT
BEGIN:VEVENT
DTSTAMP:20260419T193845
DTSTART;TZID=Europe/Berlin:20260519T150000
DTEND;TZID=Europe/Berlin:20260519T161500
UID:26-2047-20260519T150000@EUG HAMMELTERNSCHULE UND GESUNDHEITSZENTRUM DER ST. BARBARA-KLINIK
SUMMARY:Spiel und Bewegung für Eltern mit Kindern von 1 - 3 Jahren (26-2047) 
LOCATION:St. Barbara-Klinik, Haus 5, Gymnastikhalle, , 
END:VEVENT
BEGIN:VEVENT
DTSTAMP:20260419T193845
DTSTART;TZID=Europe/Berlin:20260526T150000
DTEND;TZID=Europe/Berlin:20260526T161500
UID:26-2047-20260526T150000@EUG HAMMELTERNSCHULE UND GESUNDHEITSZENTRUM DER ST. BARBARA-KLINIK
SUMMARY:Spiel und Bewegung für Eltern mit Kindern von 1 - 3 Jahren (26-2047) 
LOCATION:St. Barbara-Klinik, Haus 5, Gymnastikhalle, , 
END:VEVENT
BEGIN:VEVENT
DTSTAMP:20260419T193845
DTSTART;TZID=Europe/Berlin:20260602T150000
DTEND;TZID=Europe/Berlin:20260602T161500
UID:26-2047-20260602T150000@EUG HAMMELTERNSCHULE UND GESUNDHEITSZENTRUM DER ST. BARBARA-KLINIK
SUMMARY:Spiel und Bewegung für Eltern mit Kindern von 1 - 3 Jahren (26-2047) 
LOCATION:St. Barbara-Klinik, Haus 5, Gymnastikhalle, , 
END:VEVENT
BEGIN:VEVENT
DTSTAMP:20260419T193845
DTSTART;TZID=Europe/Berlin:20260630T150000
DTEND;TZID=Europe/Berlin:20260630T161500
UID:26-2047-20260630T150000@EUG HAMMELTERNSCHULE UND GESUNDHEITSZENTRUM DER ST. BARBARA-KLINIK
SUMMARY:Spiel und Bewegung für Eltern mit Kindern von 1 - 3 Jahren (26-2047) 
LOCATION:St. Barbara-Klinik, Haus 5, Gymnastikhalle, , 
END:VEVENT
BEGIN:VEVENT
DTSTAMP:20260419T193845
DTSTART;TZID=Europe/Berlin:20260707T150000
DTEND;TZID=Europe/Berlin:20260707T161500
UID:26-2047-20260707T150000@EUG HAMMELTERNSCHULE UND GESUNDHEITSZENTRUM DER ST. BARBARA-KLINIK
SUMMARY:Spiel und Bewegung für Eltern mit Kindern von 1 - 3 Jahren (26-2047) 
LOCATION:St. Barbara-Klinik, Haus 5, Gymnastikhalle, , 
END:VEVENT
BEGIN:VEVENT
DTSTAMP:20260419T193845
DTSTART;TZID=Europe/Berlin:20260714T150000
DTEND;TZID=Europe/Berlin:20260714T161500
UID:26-2047-20260714T150000@EUG HAMMELTERNSCHULE UND GESUNDHEITSZENTRUM DER ST. BARBARA-KLINIK
SUMMARY:Spiel und Bewegung für Eltern mit Kindern von 1 - 3 Jahren (26-2047) 
LOCATION:St. Barbara-Klinik, Haus 5, Gymnastikhalle, , 
END:VEVENT
BEGIN:VEVENT
DTSTAMP:20260419T193845
DTSTART;TZID=Europe/Berlin:20260721T150000
DTEND;TZID=Europe/Berlin:20260721T161500
UID:26-2047-20260721T150000@EUG HAMMELTERNSCHULE UND GESUNDHEITSZENTRUM DER ST. BARBARA-KLINIK
SUMMARY:Spiel und Bewegung für Eltern mit Kindern von 1 - 3 Jahren (26-2047) 
LOCATION:St. Barbara-Klinik, Haus 5, Gymnastikhalle, , 
END:VEVENT
BEGIN:VEVENT
DTSTAMP:20260419T193845
DTSTART;TZID=Europe/Berlin:20260728T150000
DTEND;TZID=Europe/Berlin:20260728T161500
UID:26-2047-20260728T150000@EUG HAMMELTERNSCHULE UND GESUNDHEITSZENTRUM DER ST. BARBARA-KLINIK
SUMMARY:Spiel und Bewegung für Eltern mit Kindern von 1 - 3 Jahren (26-2047) 
LOCATION:St. Barbara-Klinik, Haus 5, Gymnastikhalle, , 
END:VEVENT
END:VCALENDAR