BEGIN:VCALENDAR
PRODID:http://www.kufer.de/kuferweb / DE
VERSION:2.0
METHOD:PUBLISH
CALSCALE:GREGORIAN
X-WR-TIMEZONE:Europe/Berlin
BEGIN:VTIMEZONE
TZID:Europe/Berlin
X-LIC-LOCATION:Europe/Berlin
BEGIN:DAYLIGHT
TZOFFSETFROM:+0100
TZOFFSETTO:+0200
TZNAME:CEST
DTSTART;TZID=Europe/Berlin:19700329T020000
RRULE:FREQ=YEARLY;INTERVAL=1;BYDAY=-1SU;BYMONTH=3
END:DAYLIGHT
BEGIN:STANDARD
TZOFFSETFROM:+0200
TZOFFSETTO:+0100
TZNAME:CET
DTSTART;TZID=Europe/Berlin:19701025T030000
RRULE:FREQ=YEARLY;INTERVAL=1;BYDAY=-1SU;BYMONTH=10
END:STANDARD
END:VTIMEZONE
BEGIN:VEVENT
DTSTAMP:20260419T161906
DTSTART;TZID=Europe/Berlin:20261204T090000
DTEND;TZID=Europe/Berlin:20261204T163000
UID:26-5028-20261204T090000@EUG HAMMELTERNSCHULE UND GESUNDHEITSZENTRUM DER ST. BARBARA-KLINIK
SUMMARY:Praxisanleitende als Vorbild und Modell für Auszubildende (26-5028) 
LOCATION:Schloss Oberwerries, Raum Gütersloh, Zum Schloss Oberwerries, 59073 Hamm
END:VEVENT
END:VCALENDAR